BEGIN:VCALENDAR
VERSION:2.0
PRODID:-//Jos Burgers - ECPv6.15.20//NONSGML v1.0//EN
CALSCALE:GREGORIAN
METHOD:PUBLISH
X-WR-CALNAME:Jos Burgers
X-ORIGINAL-URL:https://josburgers.nl
X-WR-CALDESC:Evenementen voor Jos Burgers
REFRESH-INTERVAL;VALUE=DURATION:PT1H
X-Robots-Tag:noindex
X-PUBLISHED-TTL:PT1H
BEGIN:VTIMEZONE
TZID:UTC
BEGIN:STANDARD
TZOFFSETFROM:+0000
TZOFFSETTO:+0000
TZNAME:UTC
DTSTART:20250101T000000
END:STANDARD
END:VTIMEZONE
BEGIN:VEVENT
DTSTART;VALUE=DATE:20261005
DTEND;VALUE=DATE:20261006
DTSTAMP:20260423T164001
CREATED:20251224T092524Z
LAST-MODIFIED:20251224T092554Z
UID:2527-1791158400-1791244799@josburgers.nl
SUMMARY:Theatercollege
DESCRIPTION:
URL:https://josburgers.nl/evenement/theatercollege/
LOCATION:Afas theater Leusden
END:VEVENT
BEGIN:VEVENT
DTSTART;VALUE=DATE:20261124
DTEND;VALUE=DATE:20261125
DTSTAMP:20260423T164001
CREATED:20251224T092642Z
LAST-MODIFIED:20251224T092642Z
UID:2529-1795478400-1795564799@josburgers.nl
SUMMARY:Theatercollege
DESCRIPTION:
URL:https://josburgers.nl/evenement/theatercollege-2/
LOCATION:Afas theater Leusden
END:VEVENT
BEGIN:VEVENT
DTSTART;VALUE=DATE:20261201
DTEND;VALUE=DATE:20261202
DTSTAMP:20260423T164001
CREATED:20251224T093212Z
LAST-MODIFIED:20251224T093212Z
UID:2532-1796083200-1796169599@josburgers.nl
SUMMARY:Seminar Psychologie van het overtuigen
DESCRIPTION:
URL:https://josburgers.nl/evenement/seminar-psychologie-van-het-overtuigen-3/
LOCATION:Beatrix theater Utrecht
END:VEVENT
END:VCALENDAR